BEGIN:VCALENDAR
VERSION:2.0
PRODID:-//Animal Magnetizm - ECPv6.15.20//NONSGML v1.0//EN
CALSCALE:GREGORIAN
METHOD:PUBLISH
X-WR-CALNAME:Animal Magnetizm
X-ORIGINAL-URL:https://animalmagnetizm.com
X-WR-CALDESC:Events for Animal Magnetizm
REFRESH-INTERVAL;VALUE=DURATION:PT1H
X-Robots-Tag:noindex
X-PUBLISHED-TTL:PT1H
BEGIN:VTIMEZONE
TZID:America/Los_Angeles
BEGIN:DAYLIGHT
TZOFFSETFROM:-0800
TZOFFSETTO:-0700
TZNAME:PDT
DTSTART:20190310T100000
END:DAYLIGHT
BEGIN:STANDARD
TZOFFSETFROM:-0700
TZOFFSETTO:-0800
TZNAME:PST
DTSTART:20191103T090000
END:STANDARD
BEGIN:DAYLIGHT
TZOFFSETFROM:-0800
TZOFFSETTO:-0700
TZNAME:PDT
DTSTART:20200308T100000
END:DAYLIGHT
BEGIN:STANDARD
TZOFFSETFROM:-0700
TZOFFSETTO:-0800
TZNAME:PST
DTSTART:20201101T090000
END:STANDARD
BEGIN:DAYLIGHT
TZOFFSETFROM:-0800
TZOFFSETTO:-0700
TZNAME:PDT
DTSTART:20210314T100000
END:DAYLIGHT
BEGIN:STANDARD
TZOFFSETFROM:-0700
TZOFFSETTO:-0800
TZNAME:PST
DTSTART:20211107T090000
END:STANDARD
END:VTIMEZONE
BEGIN:VEVENT
DTSTART;VALUE=DATE:20201011
DTEND;VALUE=DATE:20201012
DTSTAMP:20260423T172813
CREATED:20191127T175249Z
LAST-MODIFIED:20191127T175249Z
UID:1163-1602374400-1602460799@animalmagnetizm.com
SUMMARY:SUNDAY
DESCRIPTION:
URL:https://animalmagnetizm.com/event/sunday-47/
END:VEVENT
BEGIN:VEVENT
DTSTART;VALUE=DATE:20201010
DTEND;VALUE=DATE:20201011
DTSTAMP:20260423T172813
CREATED:20191127T175220Z
LAST-MODIFIED:20191127T175220Z
UID:1161-1602288000-1602374399@animalmagnetizm.com
SUMMARY:SATURDAY
DESCRIPTION:
URL:https://animalmagnetizm.com/event/saturday-41/
END:VEVENT
BEGIN:VEVENT
DTSTART;VALUE=DATE:20201004
DTEND;VALUE=DATE:20201005
DTSTAMP:20260423T172813
CREATED:20191127T015249Z
LAST-MODIFIED:20191127T015249Z
UID:1159-1601769600-1601855999@animalmagnetizm.com
SUMMARY:SUNDAY
DESCRIPTION:
URL:https://animalmagnetizm.com/event/sunday-46/
END:VEVENT
BEGIN:VEVENT
DTSTART;VALUE=DATE:20201003
DTEND;VALUE=DATE:20201004
DTSTAMP:20260423T172813
CREATED:20191127T013722Z
LAST-MODIFIED:20191127T013722Z
UID:1155-1601683200-1601769599@animalmagnetizm.com
SUMMARY:SATURDAY
DESCRIPTION:
URL:https://animalmagnetizm.com/event/saturday-40/
END:VEVENT
BEGIN:VEVENT
DTSTART;VALUE=DATE:20200927
DTEND;VALUE=DATE:20200928
DTSTAMP:20260423T172813
CREATED:20191127T013637Z
LAST-MODIFIED:20191127T013637Z
UID:1153-1601164800-1601251199@animalmagnetizm.com
SUMMARY:SUNDAY
DESCRIPTION:
URL:https://animalmagnetizm.com/event/sunday-45/
END:VEVENT
BEGIN:VEVENT
DTSTART;VALUE=DATE:20200926
DTEND;VALUE=DATE:20200927
DTSTAMP:20260423T172813
CREATED:20191127T013613Z
LAST-MODIFIED:20191127T013613Z
UID:1151-1601078400-1601164799@animalmagnetizm.com
SUMMARY:SATURDAY
DESCRIPTION:
URL:https://animalmagnetizm.com/event/saturday-39/
END:VEVENT
BEGIN:VEVENT
DTSTART;VALUE=DATE:20200920
DTEND;VALUE=DATE:20200921
DTSTAMP:20260423T172813
CREATED:20191127T013519Z
LAST-MODIFIED:20191127T013519Z
UID:1149-1600560000-1600646399@animalmagnetizm.com
SUMMARY:SUNDAY
DESCRIPTION:
URL:https://animalmagnetizm.com/event/sunday-44/
END:VEVENT
BEGIN:VEVENT
DTSTART;VALUE=DATE:20200919
DTEND;VALUE=DATE:20200920
DTSTAMP:20260423T172813
CREATED:20191127T013234Z
LAST-MODIFIED:20191127T013234Z
UID:1147-1600473600-1600559999@animalmagnetizm.com
SUMMARY:SATURDAY
DESCRIPTION:
URL:https://animalmagnetizm.com/event/saturday-38/
END:VEVENT
BEGIN:VEVENT
DTSTART;VALUE=DATE:20200913
DTEND;VALUE=DATE:20200914
DTSTAMP:20260423T172813
CREATED:20191127T013115Z
LAST-MODIFIED:20191127T013115Z
UID:1145-1599955200-1600041599@animalmagnetizm.com
SUMMARY:SUNDAY
DESCRIPTION:
URL:https://animalmagnetizm.com/event/sunday-43/
END:VEVENT
BEGIN:VEVENT
DTSTART;VALUE=DATE:20200912
DTEND;VALUE=DATE:20200913
DTSTAMP:20260423T172813
CREATED:20191127T013049Z
LAST-MODIFIED:20191127T013049Z
UID:1143-1599868800-1599955199@animalmagnetizm.com
SUMMARY:SATURDAY
DESCRIPTION:
URL:https://animalmagnetizm.com/event/saturday-37/
END:VEVENT
BEGIN:VEVENT
DTSTART;VALUE=DATE:20200907
DTEND;VALUE=DATE:20200908
DTSTAMP:20260423T172813
CREATED:20191119T011016Z
LAST-MODIFIED:20191119T011016Z
UID:843-1599436800-1599523199@animalmagnetizm.com
SUMMARY:CLOSED
DESCRIPTION:
URL:https://animalmagnetizm.com/event/closed-12/
END:VEVENT
BEGIN:VEVENT
DTSTART;VALUE=DATE:20200907
DTEND;VALUE=DATE:20200908
DTSTAMP:20260423T172813
CREATED:20191119T005844Z
LAST-MODIFIED:20191119T005858Z
UID:836-1599436800-1599523199@animalmagnetizm.com
SUMMARY:CLOSED
DESCRIPTION:
URL:https://animalmagnetizm.com/event/closed-9/
END:VEVENT
BEGIN:VEVENT
DTSTART;VALUE=DATE:20200906
DTEND;VALUE=DATE:20200907
DTSTAMP:20260423T172813
CREATED:20191127T013023Z
LAST-MODIFIED:20191127T013023Z
UID:1141-1599350400-1599436799@animalmagnetizm.com
SUMMARY:SUNDAY
DESCRIPTION:
URL:https://animalmagnetizm.com/event/sunday-40/
END:VEVENT
BEGIN:VEVENT
DTSTART;VALUE=DATE:20200905
DTEND;VALUE=DATE:20200906
DTSTAMP:20260423T172813
CREATED:20191127T012952Z
LAST-MODIFIED:20191127T012952Z
UID:1139-1599264000-1599350399@animalmagnetizm.com
SUMMARY:SATURDAY
DESCRIPTION:
URL:https://animalmagnetizm.com/event/saturday-35/
END:VEVENT
BEGIN:VEVENT
DTSTART;VALUE=DATE:20200830
DTEND;VALUE=DATE:20200831
DTSTAMP:20260423T172813
CREATED:20191127T010514Z
LAST-MODIFIED:20191127T010514Z
UID:1136-1598745600-1598831999@animalmagnetizm.com
SUMMARY:SUNDAY
DESCRIPTION:
URL:https://animalmagnetizm.com/event/sunday-42/
END:VEVENT
BEGIN:VEVENT
DTSTART;VALUE=DATE:20200829
DTEND;VALUE=DATE:20200830
DTSTAMP:20260423T172813
CREATED:20191127T010440Z
LAST-MODIFIED:20191127T010440Z
UID:1134-1598659200-1598745599@animalmagnetizm.com
SUMMARY:SATURDAY
DESCRIPTION:
URL:https://animalmagnetizm.com/event/saturday-36/
END:VEVENT
BEGIN:VEVENT
DTSTART;VALUE=DATE:20200823
DTEND;VALUE=DATE:20200824
DTSTAMP:20260423T172813
CREATED:20191127T010411Z
LAST-MODIFIED:20191127T010411Z
UID:1132-1598140800-1598227199@animalmagnetizm.com
SUMMARY:SUNDAY
DESCRIPTION:
URL:https://animalmagnetizm.com/event/sunday-41/
END:VEVENT
BEGIN:VEVENT
DTSTART;VALUE=DATE:20200822
DTEND;VALUE=DATE:20200823
DTSTAMP:20260423T172813
CREATED:20191127T004651Z
LAST-MODIFIED:20191127T004651Z
UID:1125-1598054400-1598140799@animalmagnetizm.com
SUMMARY:SATURDAY
DESCRIPTION:
URL:https://animalmagnetizm.com/event/saturday-34/
END:VEVENT
BEGIN:VEVENT
DTSTART;VALUE=DATE:20200816
DTEND;VALUE=DATE:20200817
DTSTAMP:20260423T172813
CREATED:20191127T004605Z
LAST-MODIFIED:20191127T004605Z
UID:1123-1597536000-1597622399@animalmagnetizm.com
SUMMARY:SUNDAY
DESCRIPTION:
URL:https://animalmagnetizm.com/event/sunday-39/
END:VEVENT
BEGIN:VEVENT
DTSTART;VALUE=DATE:20200815
DTEND;VALUE=DATE:20200816
DTSTAMP:20260423T172813
CREATED:20191127T004542Z
LAST-MODIFIED:20191127T004542Z
UID:1121-1597449600-1597535999@animalmagnetizm.com
SUMMARY:SATURDAY
DESCRIPTION:
URL:https://animalmagnetizm.com/event/saturday-33/
END:VEVENT
BEGIN:VEVENT
DTSTART;VALUE=DATE:20200810
DTEND;VALUE=DATE:20200815
DTSTAMP:20260423T172813
CREATED:20191202T204159Z
LAST-MODIFIED:20191202T204159Z
UID:1224-1597017600-1597449599@animalmagnetizm.com
SUMMARY:CLOSED
DESCRIPTION:
URL:https://animalmagnetizm.com/event/closed-21/
END:VEVENT
BEGIN:VEVENT
DTSTART;TZID=America/Los_Angeles:20200809T080000
DTEND;TZID=America/Los_Angeles:20200809T170000
DTSTAMP:20260423T172813
CREATED:20191127T004429Z
LAST-MODIFIED:20191127T004429Z
UID:1119-1596960000-1596992400@animalmagnetizm.com
SUMMARY:SUNDAY
DESCRIPTION:
URL:https://animalmagnetizm.com/event/sunday-38/
END:VEVENT
BEGIN:VEVENT
DTSTART;VALUE=DATE:20200808
DTEND;VALUE=DATE:20200809
DTSTAMP:20260423T172813
CREATED:20191127T004406Z
LAST-MODIFIED:20191127T004406Z
UID:1117-1596844800-1596931199@animalmagnetizm.com
SUMMARY:SATURDAY
DESCRIPTION:
URL:https://animalmagnetizm.com/event/saturday-32/
END:VEVENT
BEGIN:VEVENT
DTSTART;VALUE=DATE:20200802
DTEND;VALUE=DATE:20200803
DTSTAMP:20260423T172813
CREATED:20191127T004300Z
LAST-MODIFIED:20191127T004337Z
UID:1115-1596326400-1596412799@animalmagnetizm.com
SUMMARY:SUNDAY
DESCRIPTION:
URL:https://animalmagnetizm.com/event/sunday-37/
END:VEVENT
BEGIN:VEVENT
DTSTART;VALUE=DATE:20200801
DTEND;VALUE=DATE:20200802
DTSTAMP:20260423T172813
CREATED:20191127T004228Z
LAST-MODIFIED:20191127T004228Z
UID:1113-1596240000-1596326399@animalmagnetizm.com
SUMMARY:SATURDAY
DESCRIPTION:
URL:https://animalmagnetizm.com/event/saturday-31/
END:VEVENT
BEGIN:VEVENT
DTSTART;VALUE=DATE:20200726
DTEND;VALUE=DATE:20200727
DTSTAMP:20260423T172813
CREATED:20191127T004158Z
LAST-MODIFIED:20191127T004158Z
UID:1111-1595721600-1595807999@animalmagnetizm.com
SUMMARY:SUNDAY
DESCRIPTION:
URL:https://animalmagnetizm.com/event/sunday-36/
END:VEVENT
BEGIN:VEVENT
DTSTART;VALUE=DATE:20200725
DTEND;VALUE=DATE:20200726
DTSTAMP:20260423T172813
CREATED:20191127T004124Z
LAST-MODIFIED:20191127T004124Z
UID:1109-1595635200-1595721599@animalmagnetizm.com
SUMMARY:SATURDAY
DESCRIPTION:
URL:https://animalmagnetizm.com/event/saturday-30/
END:VEVENT
BEGIN:VEVENT
DTSTART;VALUE=DATE:20200719
DTEND;VALUE=DATE:20200720
DTSTAMP:20260423T172813
CREATED:20191127T004100Z
LAST-MODIFIED:20191127T004100Z
UID:1107-1595116800-1595203199@animalmagnetizm.com
SUMMARY:SUNDAY
DESCRIPTION:
URL:https://animalmagnetizm.com/event/sunday-35/
END:VEVENT
BEGIN:VEVENT
DTSTART;VALUE=DATE:20200718
DTEND;VALUE=DATE:20200719
DTSTAMP:20260423T172813
CREATED:20191127T004030Z
LAST-MODIFIED:20191127T004030Z
UID:1105-1595030400-1595116799@animalmagnetizm.com
SUMMARY:SATURDAY
DESCRIPTION:
URL:https://animalmagnetizm.com/event/saturday-29/
END:VEVENT
BEGIN:VEVENT
DTSTART;VALUE=DATE:20200712
DTEND;VALUE=DATE:20200713
DTSTAMP:20260423T172813
CREATED:20191127T004004Z
LAST-MODIFIED:20191127T004004Z
UID:1103-1594512000-1594598399@animalmagnetizm.com
SUMMARY:SUNDAY
DESCRIPTION:
URL:https://animalmagnetizm.com/event/sunday-34/
END:VEVENT
END:VCALENDAR