BEGIN:VCALENDAR
VERSION:2.0
PRODID:-//Animal Magnetizm - ECPv6.15.20//NONSGML v1.0//EN
CALSCALE:GREGORIAN
METHOD:PUBLISH
X-WR-CALNAME:Animal Magnetizm
X-ORIGINAL-URL:https://animalmagnetizm.com
X-WR-CALDESC:Events for Animal Magnetizm
REFRESH-INTERVAL;VALUE=DURATION:PT1H
X-Robots-Tag:noindex
X-PUBLISHED-TTL:PT1H
BEGIN:VTIMEZONE
TZID:America/Los_Angeles
BEGIN:DAYLIGHT
TZOFFSETFROM:-0800
TZOFFSETTO:-0700
TZNAME:PDT
DTSTART:20190310T100000
END:DAYLIGHT
BEGIN:STANDARD
TZOFFSETFROM:-0700
TZOFFSETTO:-0800
TZNAME:PST
DTSTART:20191103T090000
END:STANDARD
BEGIN:DAYLIGHT
TZOFFSETFROM:-0800
TZOFFSETTO:-0700
TZNAME:PDT
DTSTART:20200308T100000
END:DAYLIGHT
BEGIN:STANDARD
TZOFFSETFROM:-0700
TZOFFSETTO:-0800
TZNAME:PST
DTSTART:20201101T090000
END:STANDARD
BEGIN:DAYLIGHT
TZOFFSETFROM:-0800
TZOFFSETTO:-0700
TZNAME:PDT
DTSTART:20210314T100000
END:DAYLIGHT
BEGIN:STANDARD
TZOFFSETFROM:-0700
TZOFFSETTO:-0800
TZNAME:PST
DTSTART:20211107T090000
END:STANDARD
BEGIN:DAYLIGHT
TZOFFSETFROM:-0800
TZOFFSETTO:-0700
TZNAME:PDT
DTSTART:20220313T100000
END:DAYLIGHT
BEGIN:STANDARD
TZOFFSETFROM:-0700
TZOFFSETTO:-0800
TZNAME:PST
DTSTART:20221106T090000
END:STANDARD
BEGIN:DAYLIGHT
TZOFFSETFROM:-0800
TZOFFSETTO:-0700
TZNAME:PDT
DTSTART:20230312T100000
END:DAYLIGHT
BEGIN:STANDARD
TZOFFSETFROM:-0700
TZOFFSETTO:-0800
TZNAME:PST
DTSTART:20231105T090000
END:STANDARD
BEGIN:DAYLIGHT
TZOFFSETFROM:-0800
TZOFFSETTO:-0700
TZNAME:PDT
DTSTART:20240310T100000
END:DAYLIGHT
BEGIN:STANDARD
TZOFFSETFROM:-0700
TZOFFSETTO:-0800
TZNAME:PST
DTSTART:20241103T090000
END:STANDARD
END:VTIMEZONE
BEGIN:VEVENT
DTSTART;VALUE=DATE:20231123
DTEND;VALUE=DATE:20231125
DTSTAMP:20260423T143148
CREATED:20230812T004539Z
LAST-MODIFIED:20230812T004539Z
UID:4505-1700697600-1700870399@animalmagnetizm.com
SUMMARY:CLOSED
DESCRIPTION:
URL:https://animalmagnetizm.com/event/closed-37/
END:VEVENT
BEGIN:VEVENT
DTSTART;VALUE=DATE:20231031
DTEND;VALUE=DATE:20231101
DTSTAMP:20260423T143148
CREATED:20230812T004939Z
LAST-MODIFIED:20230812T004939Z
UID:4509-1698710400-1698796799@animalmagnetizm.com
SUMMARY:Halloween
DESCRIPTION:
URL:https://animalmagnetizm.com/event/halloween-2/
END:VEVENT
BEGIN:VEVENT
DTSTART;VALUE=DATE:20230904
DTEND;VALUE=DATE:20230905
DTSTAMP:20260423T143148
CREATED:20230812T004435Z
LAST-MODIFIED:20230812T004435Z
UID:4503-1693785600-1693871999@animalmagnetizm.com
SUMMARY:CLOSED
DESCRIPTION:
URL:https://animalmagnetizm.com/event/closed-36/
END:VEVENT
BEGIN:VEVENT
DTSTART;VALUE=DATE:20230828
DTEND;VALUE=DATE:20230902
DTSTAMP:20260423T143148
CREATED:20230812T002743Z
LAST-MODIFIED:20230812T002743Z
UID:4501-1693180800-1693612799@animalmagnetizm.com
SUMMARY:CLOSED
DESCRIPTION:
URL:https://animalmagnetizm.com/event/closed-35/
END:VEVENT
BEGIN:VEVENT
DTSTART;VALUE=DATE:20230811
DTEND;VALUE=DATE:20230812
DTSTAMP:20260423T143148
CREATED:20230811T125218Z
LAST-MODIFIED:20230811T125218Z
UID:4499-1691712000-1691798399@animalmagnetizm.com
SUMMARY:Pool Party
DESCRIPTION:
URL:https://animalmagnetizm.com/event/pool-party/
END:VEVENT
BEGIN:VEVENT
DTSTART;VALUE=DATE:20230703
DTEND;VALUE=DATE:20230705
DTSTAMP:20260423T143148
CREATED:20230528T235026Z
LAST-MODIFIED:20230529T101138Z
UID:4209-1688342400-1688515199@animalmagnetizm.com
SUMMARY:July 3rd & 4th
DESCRIPTION:Happy 4th of July!  Animal Magnetizm will be Closed for the holiday.
URL:https://animalmagnetizm.com/event/july-3rd-4th/
END:VEVENT
BEGIN:VEVENT
DTSTART;VALUE=DATE:20230609
DTEND;VALUE=DATE:20230610
DTSTAMP:20260423T143148
CREATED:20230606T220903Z
LAST-MODIFIED:20230606T220903Z
UID:4260-1686268800-1686355199@animalmagnetizm.com
SUMMARY:CLOSED
DESCRIPTION:
URL:https://animalmagnetizm.com/event/closed-34/
END:VEVENT
BEGIN:VEVENT
DTSTART;TZID=America/Los_Angeles:20230220T080000
DTEND;TZID=America/Los_Angeles:20230306T170000
DTSTAMP:20260423T143148
CREATED:20230114T010725Z
LAST-MODIFIED:20230114T010725Z
UID:3762-1676880000-1678122000@animalmagnetizm.com
SUMMARY:CLOSED
DESCRIPTION:
URL:https://animalmagnetizm.com/event/closed-33/
END:VEVENT
BEGIN:VEVENT
DTSTART;VALUE=DATE:20230116
DTEND;VALUE=DATE:20230117
DTSTAMP:20260423T143148
CREATED:20230114T010539Z
LAST-MODIFIED:20230114T010539Z
UID:3760-1673827200-1673913599@animalmagnetizm.com
SUMMARY:CLOSED
DESCRIPTION:
URL:https://animalmagnetizm.com/event/closed-32/
END:VEVENT
BEGIN:VEVENT
DTSTART;VALUE=DATE:20221123
DTEND;VALUE=DATE:20221126
DTSTAMP:20260423T143148
CREATED:20220604T214054Z
LAST-MODIFIED:20220604T214054Z
UID:2972-1669161600-1669420799@animalmagnetizm.com
SUMMARY:Closed
DESCRIPTION:
URL:https://animalmagnetizm.com/event/closed-27/
END:VEVENT
BEGIN:VEVENT
DTSTART;VALUE=DATE:20221111
DTEND;VALUE=DATE:20221112
DTSTAMP:20260423T143148
CREATED:20220604T213913Z
LAST-MODIFIED:20220604T213913Z
UID:2970-1668124800-1668211199@animalmagnetizm.com
SUMMARY:Closed
DESCRIPTION:
URL:https://animalmagnetizm.com/event/closed-26/
END:VEVENT
BEGIN:VEVENT
DTSTART;VALUE=DATE:20221031
DTEND;VALUE=DATE:20221101
DTSTAMP:20260423T143148
CREATED:20220928T131848Z
LAST-MODIFIED:20220928T131848Z
UID:3437-1667174400-1667260799@animalmagnetizm.com
SUMMARY:Closed
DESCRIPTION:
URL:https://animalmagnetizm.com/event/closed-31/
END:VEVENT
BEGIN:VEVENT
DTSTART;VALUE=DATE:20221028
DTEND;VALUE=DATE:20221029
DTSTAMP:20260423T143148
CREATED:20220928T131427Z
LAST-MODIFIED:20220928T131427Z
UID:3435-1666915200-1667001599@animalmagnetizm.com
SUMMARY:Closed
DESCRIPTION:
URL:https://animalmagnetizm.com/event/closed-30/
END:VEVENT
BEGIN:VEVENT
DTSTART;VALUE=DATE:20220905
DTEND;VALUE=DATE:20220906
DTSTAMP:20260423T143148
CREATED:20220604T213735Z
LAST-MODIFIED:20220604T213735Z
UID:2968-1662336000-1662422399@animalmagnetizm.com
SUMMARY:Closed
DESCRIPTION:
URL:https://animalmagnetizm.com/event/closed-25/
END:VEVENT
BEGIN:VEVENT
DTSTART;VALUE=DATE:20220812
DTEND;VALUE=DATE:20220813
DTSTAMP:20260423T143148
CREATED:20220809T000827Z
LAST-MODIFIED:20220809T000827Z
UID:3238-1660262400-1660348799@animalmagnetizm.com
SUMMARY:CLOSED
DESCRIPTION:
URL:https://animalmagnetizm.com/event/closed-29/
END:VEVENT
BEGIN:VEVENT
DTSTART;VALUE=DATE:20220729
DTEND;VALUE=DATE:20220730
DTSTAMP:20260423T143148
CREATED:20220707T013949Z
LAST-MODIFIED:20220707T013949Z
UID:3094-1659052800-1659139199@animalmagnetizm.com
SUMMARY:CLOSED
DESCRIPTION:
URL:https://animalmagnetizm.com/event/closed-28/
END:VEVENT
BEGIN:VEVENT
DTSTART;VALUE=DATE:20220704
DTEND;VALUE=DATE:20220705
DTSTAMP:20260423T143148
CREATED:20220604T213529Z
LAST-MODIFIED:20220604T213529Z
UID:2966-1656892800-1656979199@animalmagnetizm.com
SUMMARY:Closed
DESCRIPTION:
URL:https://animalmagnetizm.com/event/closed-24/
END:VEVENT
BEGIN:VEVENT
DTSTART;VALUE=DATE:20220616
DTEND;VALUE=DATE:20220621
DTSTAMP:20260423T143148
CREATED:20220601T014542Z
LAST-MODIFIED:20220601T014542Z
UID:2895-1655337600-1655769599@animalmagnetizm.com
SUMMARY:CLOSED
DESCRIPTION:
URL:https://animalmagnetizm.com/event/closed-23/
END:VEVENT
BEGIN:VEVENT
DTSTART;VALUE=DATE:20220530
DTEND;VALUE=DATE:20220531
DTSTAMP:20260423T143148
CREATED:20220524T012442Z
LAST-MODIFIED:20220524T012442Z
UID:2874-1653868800-1653955199@animalmagnetizm.com
SUMMARY:Closed
DESCRIPTION:
URL:https://animalmagnetizm.com/event/closed-22/
END:VEVENT
BEGIN:VEVENT
DTSTART;VALUE=DATE:20220404
DTEND;VALUE=DATE:20220409
DTSTAMP:20260423T143148
CREATED:20220120T231304Z
LAST-MODIFIED:20220120T231304Z
UID:2415-1649030400-1649462399@animalmagnetizm.com
SUMMARY:CLOSED
DESCRIPTION:
URL:https://animalmagnetizm.com/event/closed-18/
END:VEVENT
BEGIN:VEVENT
DTSTART;VALUE=DATE:20211224
DTEND;VALUE=DATE:20211225
DTSTAMP:20260423T143148
CREATED:20211130T010508Z
LAST-MODIFIED:20211130T010508Z
UID:2190-1640304000-1640390399@animalmagnetizm.com
SUMMARY:CLOSED
DESCRIPTION:
URL:https://animalmagnetizm.com/event/closed-8/
END:VEVENT
BEGIN:VEVENT
DTSTART;VALUE=DATE:20210906
DTEND;VALUE=DATE:20210907
DTSTAMP:20260423T143148
CREATED:20210825T234855Z
LAST-MODIFIED:20210825T234855Z
UID:1759-1630886400-1630972799@animalmagnetizm.com
SUMMARY:Closed
DESCRIPTION:
URL:https://animalmagnetizm.com/event/closed-7/
END:VEVENT
BEGIN:VEVENT
DTSTART;VALUE=DATE:20210802
DTEND;VALUE=DATE:20210807
DTSTAMP:20260423T143148
CREATED:20210728T010204Z
LAST-MODIFIED:20210728T010204Z
UID:1665-1627862400-1628294399@animalmagnetizm.com
SUMMARY:Closed Aug. 2-6
DESCRIPTION:
URL:https://animalmagnetizm.com/event/closed-aug-2-6/
END:VEVENT
BEGIN:VEVENT
DTSTART;TZID=America/Los_Angeles:20210531T080000
DTEND;TZID=America/Los_Angeles:20210531T170000
DTSTAMP:20260423T143148
CREATED:20210522T003216Z
LAST-MODIFIED:20210522T003249Z
UID:1359-1622448000-1622480400@animalmagnetizm.com
SUMMARY:Closed
DESCRIPTION:
URL:https://animalmagnetizm.com/event/closed-holiday-2/
END:VEVENT
BEGIN:VEVENT
DTSTART;VALUE=DATE:20210426
DTEND;VALUE=DATE:20210501
DTSTAMP:20260423T143148
CREATED:20210305T223724Z
LAST-MODIFIED:20210414T233254Z
UID:1328-1619395200-1619827199@animalmagnetizm.com
SUMMARY:Closed
DESCRIPTION:
URL:https://animalmagnetizm.com/event/closed-5/
END:VEVENT
BEGIN:VEVENT
DTSTART;VALUE=DATE:20201227
DTEND;VALUE=DATE:20201228
DTSTAMP:20260423T143148
CREATED:20191127T185613Z
LAST-MODIFIED:20191127T185613Z
UID:1207-1609027200-1609113599@animalmagnetizm.com
SUMMARY:SUNDAY
DESCRIPTION:
URL:https://animalmagnetizm.com/event/sunday-58/
END:VEVENT
BEGIN:VEVENT
DTSTART;VALUE=DATE:20201226
DTEND;VALUE=DATE:20201227
DTSTAMP:20260423T143148
CREATED:20191127T185544Z
LAST-MODIFIED:20191127T185544Z
UID:1205-1608940800-1609027199@animalmagnetizm.com
SUMMARY:SATURDAY
DESCRIPTION:
URL:https://animalmagnetizm.com/event/saturday-52/
END:VEVENT
BEGIN:VEVENT
DTSTART;VALUE=DATE:20201220
DTEND;VALUE=DATE:20201221
DTSTAMP:20260423T143148
CREATED:20191127T185744Z
LAST-MODIFIED:20191127T185744Z
UID:1211-1608422400-1608508799@animalmagnetizm.com
SUMMARY:SUNDAY
DESCRIPTION:
URL:https://animalmagnetizm.com/event/sunday-59/
END:VEVENT
BEGIN:VEVENT
DTSTART;VALUE=DATE:20201219
DTEND;VALUE=DATE:20201220
DTSTAMP:20260423T143148
CREATED:20191127T185720Z
LAST-MODIFIED:20191127T185720Z
UID:1209-1608336000-1608422399@animalmagnetizm.com
SUMMARY:SATURDAY
DESCRIPTION:
URL:https://animalmagnetizm.com/event/saturday-53/
END:VEVENT
BEGIN:VEVENT
DTSTART;VALUE=DATE:20201213
DTEND;VALUE=DATE:20201214
DTSTAMP:20260423T143148
CREATED:20191127T182303Z
LAST-MODIFIED:20191127T182303Z
UID:1203-1607817600-1607903999@animalmagnetizm.com
SUMMARY:SUNDAY
DESCRIPTION:
URL:https://animalmagnetizm.com/event/sunday-57/
END:VEVENT
END:VCALENDAR