BEGIN:VCALENDAR
VERSION:2.0
PRODID:-//Animal Magnetizm - ECPv6.15.20//NONSGML v1.0//EN
CALSCALE:GREGORIAN
METHOD:PUBLISH
X-WR-CALNAME:Animal Magnetizm
X-ORIGINAL-URL:https://animalmagnetizm.com
X-WR-CALDESC:Events for Animal Magnetizm
REFRESH-INTERVAL;VALUE=DURATION:PT1H
X-Robots-Tag:noindex
X-PUBLISHED-TTL:PT1H
BEGIN:VTIMEZONE
TZID:America/Los_Angeles
BEGIN:DAYLIGHT
TZOFFSETFROM:-0800
TZOFFSETTO:-0700
TZNAME:PDT
DTSTART:20180311T100000
END:DAYLIGHT
BEGIN:STANDARD
TZOFFSETFROM:-0700
TZOFFSETTO:-0800
TZNAME:PST
DTSTART:20181104T090000
END:STANDARD
BEGIN:DAYLIGHT
TZOFFSETFROM:-0800
TZOFFSETTO:-0700
TZNAME:PDT
DTSTART:20190310T100000
END:DAYLIGHT
BEGIN:STANDARD
TZOFFSETFROM:-0700
TZOFFSETTO:-0800
TZNAME:PST
DTSTART:20191103T090000
END:STANDARD
BEGIN:DAYLIGHT
TZOFFSETFROM:-0800
TZOFFSETTO:-0700
TZNAME:PDT
DTSTART:20200308T100000
END:DAYLIGHT
BEGIN:STANDARD
TZOFFSETFROM:-0700
TZOFFSETTO:-0800
TZNAME:PST
DTSTART:20201101T090000
END:STANDARD
BEGIN:DAYLIGHT
TZOFFSETFROM:-0800
TZOFFSETTO:-0700
TZNAME:PDT
DTSTART:20210314T100000
END:DAYLIGHT
BEGIN:STANDARD
TZOFFSETFROM:-0700
TZOFFSETTO:-0800
TZNAME:PST
DTSTART:20211107T090000
END:STANDARD
END:VTIMEZONE
BEGIN:VEVENT
DTSTART;VALUE=DATE:20200215
DTEND;VALUE=DATE:20200216
DTSTAMP:20260424T072755
CREATED:20191121T233416Z
LAST-MODIFIED:20191121T233416Z
UID:948-1581724800-1581811199@animalmagnetizm.com
SUMMARY:SATURDAY
DESCRIPTION:
URL:https://animalmagnetizm.com/event/saturday-7/
END:VEVENT
BEGIN:VEVENT
DTSTART;TZID=America/Los_Angeles:20200209T080000
DTEND;TZID=America/Los_Angeles:20200209T170000
DTSTAMP:20260424T072755
CREATED:20191121T234049Z
LAST-MODIFIED:20191121T234049Z
UID:956-1581235200-1581267600@animalmagnetizm.com
SUMMARY:SUNDAY
DESCRIPTION:
URL:https://animalmagnetizm.com/event/sunday-12/
END:VEVENT
BEGIN:VEVENT
DTSTART;VALUE=DATE:20200208
DTEND;VALUE=DATE:20200209
DTSTAMP:20260424T072755
CREATED:20191121T234028Z
LAST-MODIFIED:20191121T234028Z
UID:954-1581120000-1581206399@animalmagnetizm.com
SUMMARY:SATURDAY
DESCRIPTION:
URL:https://animalmagnetizm.com/event/saturday-9/
END:VEVENT
BEGIN:VEVENT
DTSTART;VALUE=DATE:20200202
DTEND;VALUE=DATE:20200203
DTSTAMP:20260424T072755
CREATED:20191121T232951Z
LAST-MODIFIED:20191121T232951Z
UID:946-1580601600-1580687999@animalmagnetizm.com
SUMMARY:SUNDAY
DESCRIPTION:
URL:https://animalmagnetizm.com/event/sunday-10/
END:VEVENT
BEGIN:VEVENT
DTSTART;VALUE=DATE:20200201
DTEND;VALUE=DATE:20200202
DTSTAMP:20260424T072755
CREATED:20191121T232856Z
LAST-MODIFIED:20191121T232856Z
UID:944-1580515200-1580601599@animalmagnetizm.com
SUMMARY:SATURDAY
DESCRIPTION:
URL:https://animalmagnetizm.com/event/saturday-6/
END:VEVENT
BEGIN:VEVENT
DTSTART;TZID=America/Los_Angeles:20200126T080000
DTEND;TZID=America/Los_Angeles:20200126T170000
DTSTAMP:20260424T072755
CREATED:20191121T232829Z
LAST-MODIFIED:20191121T232829Z
UID:942-1580025600-1580058000@animalmagnetizm.com
SUMMARY:SUNDAY
DESCRIPTION:
URL:https://animalmagnetizm.com/event/sunday-9/
END:VEVENT
BEGIN:VEVENT
DTSTART;VALUE=DATE:20200125
DTEND;VALUE=DATE:20200126
DTSTAMP:20260424T072755
CREATED:20191121T232806Z
LAST-MODIFIED:20191121T232806Z
UID:940-1579910400-1579996799@animalmagnetizm.com
SUMMARY:SATURDAY
DESCRIPTION:
URL:https://animalmagnetizm.com/event/saturday-5/
END:VEVENT
BEGIN:VEVENT
DTSTART;VALUE=DATE:20200120
DTEND;VALUE=DATE:20200121
DTSTAMP:20260424T072755
CREATED:20191119T004905Z
LAST-MODIFIED:20191119T004920Z
UID:830-1579478400-1579564799@animalmagnetizm.com
SUMMARY:CLOSED
DESCRIPTION:
URL:https://animalmagnetizm.com/event/closed-6/
END:VEVENT
BEGIN:VEVENT
DTSTART;VALUE=DATE:20200119
DTEND;VALUE=DATE:20200120
DTSTAMP:20260424T072755
CREATED:20191121T232601Z
LAST-MODIFIED:20191121T232601Z
UID:938-1579392000-1579478399@animalmagnetizm.com
SUMMARY:SUNDAY
DESCRIPTION:
URL:https://animalmagnetizm.com/event/sunday-8/
END:VEVENT
BEGIN:VEVENT
DTSTART;VALUE=DATE:20200118
DTEND;VALUE=DATE:20200119
DTSTAMP:20260424T072755
CREATED:20191121T232536Z
LAST-MODIFIED:20191121T232536Z
UID:936-1579305600-1579391999@animalmagnetizm.com
SUMMARY:SATURDAY
DESCRIPTION:
URL:https://animalmagnetizm.com/event/saturday-4/
END:VEVENT
BEGIN:VEVENT
DTSTART;VALUE=DATE:20200112
DTEND;VALUE=DATE:20200113
DTSTAMP:20260424T072755
CREATED:20191121T232502Z
LAST-MODIFIED:20191121T232502Z
UID:934-1578787200-1578873599@animalmagnetizm.com
SUMMARY:SUNDAY
DESCRIPTION:
URL:https://animalmagnetizm.com/event/sunday-7/
END:VEVENT
BEGIN:VEVENT
DTSTART;VALUE=DATE:20200111
DTEND;VALUE=DATE:20200112
DTSTAMP:20260424T072755
CREATED:20191121T232438Z
LAST-MODIFIED:20191121T232438Z
UID:932-1578700800-1578787199@animalmagnetizm.com
SUMMARY:SATURDAY
DESCRIPTION:
URL:https://animalmagnetizm.com/event/saturday-3/
END:VEVENT
BEGIN:VEVENT
DTSTART;VALUE=DATE:20200105
DTEND;VALUE=DATE:20200106
DTSTAMP:20260424T072755
CREATED:20191121T232354Z
LAST-MODIFIED:20191121T232412Z
UID:930-1578182400-1578268799@animalmagnetizm.com
SUMMARY:SUNDAY
DESCRIPTION:
URL:https://animalmagnetizm.com/event/sunday-6/
END:VEVENT
BEGIN:VEVENT
DTSTART;VALUE=DATE:20200104
DTEND;VALUE=DATE:20200105
DTSTAMP:20260424T072755
CREATED:20191121T232331Z
LAST-MODIFIED:20191121T232331Z
UID:928-1578096000-1578182399@animalmagnetizm.com
SUMMARY:SATURDAY
DESCRIPTION:
URL:https://animalmagnetizm.com/event/saturday-2/
END:VEVENT
BEGIN:VEVENT
DTSTART;VALUE=DATE:20200101
DTEND;VALUE=DATE:20200102
DTSTAMP:20260424T072755
CREATED:20191202T202219Z
LAST-MODIFIED:20191202T202219Z
UID:1216-1577836800-1577923199@animalmagnetizm.com
SUMMARY:Closed Holiday
DESCRIPTION:
URL:https://animalmagnetizm.com/event/closed-holiday/
END:VEVENT
BEGIN:VEVENT
DTSTART;VALUE=DATE:20191229
DTEND;VALUE=DATE:20191230
DTSTAMP:20260424T072755
CREATED:20191121T214841Z
LAST-MODIFIED:20191121T214841Z
UID:916-1577577600-1577663999@animalmagnetizm.com
SUMMARY:SUNDAY
DESCRIPTION:
URL:https://animalmagnetizm.com/event/sunday-2/
END:VEVENT
BEGIN:VEVENT
DTSTART;VALUE=DATE:20191228
DTEND;VALUE=DATE:20191229
DTSTAMP:20260424T072755
CREATED:20191121T214057Z
LAST-MODIFIED:20191121T214749Z
UID:907-1577491200-1577577599@animalmagnetizm.com
SUMMARY:SATURDAY
DESCRIPTION:
URL:https://animalmagnetizm.com/event/weekend/
END:VEVENT
BEGIN:VEVENT
DTSTART;VALUE=DATE:20191225
DTEND;VALUE=DATE:20191226
DTSTAMP:20260424T072755
CREATED:20191119T003544Z
LAST-MODIFIED:20191119T010545Z
UID:822-1577232000-1577318399@animalmagnetizm.com
SUMMARY:Closed
DESCRIPTION:
URL:https://animalmagnetizm.com/event/closed-4/
LOCATION:Closed
END:VEVENT
BEGIN:VEVENT
DTSTART;VALUE=DATE:20191222
DTEND;VALUE=DATE:20191223
DTSTAMP:20260424T072755
CREATED:20191121T214234Z
LAST-MODIFIED:20191121T214234Z
UID:911-1576972800-1577059199@animalmagnetizm.com
SUMMARY:SUNDAY
DESCRIPTION:
URL:https://animalmagnetizm.com/event/sunday/
END:VEVENT
BEGIN:VEVENT
DTSTART;VALUE=DATE:20191221
DTEND;VALUE=DATE:20191222
DTSTAMP:20260424T072755
CREATED:20191121T214548Z
LAST-MODIFIED:20191121T214548Z
UID:913-1576886400-1576972799@animalmagnetizm.com
SUMMARY:SATURDAY
DESCRIPTION:
URL:https://animalmagnetizm.com/event/saturday/
END:VEVENT
BEGIN:VEVENT
DTSTART;VALUE=DATE:20191215
DTEND;VALUE=DATE:20191216
DTSTAMP:20260424T072755
CREATED:20191121T232100Z
LAST-MODIFIED:20191121T232100Z
UID:926-1576368000-1576454399@animalmagnetizm.com
SUMMARY:SUNDAY
DESCRIPTION:
URL:https://animalmagnetizm.com/event/sunday-5/
END:VEVENT
BEGIN:VEVENT
DTSTART;VALUE=DATE:20191214
DTEND;VALUE=DATE:20191215
DTSTAMP:20260424T072755
CREATED:20191121T214009Z
LAST-MODIFIED:20191121T232031Z
UID:905-1576281600-1576367999@animalmagnetizm.com
SUMMARY:SATURDAY
DESCRIPTION:
URL:https://animalmagnetizm.com/event/closed-17/
END:VEVENT
BEGIN:VEVENT
DTSTART;VALUE=DATE:20191208
DTEND;VALUE=DATE:20191209
DTSTAMP:20260424T072755
CREATED:20191121T231843Z
LAST-MODIFIED:20191121T231851Z
UID:922-1575763200-1575849599@animalmagnetizm.com
SUMMARY:SUNDAY
DESCRIPTION:
URL:https://animalmagnetizm.com/event/sunday-4/
END:VEVENT
BEGIN:VEVENT
DTSTART;VALUE=DATE:20191207
DTEND;VALUE=DATE:20191208
DTSTAMP:20260424T072755
CREATED:20191121T213914Z
LAST-MODIFIED:20191121T231816Z
UID:903-1575676800-1575763199@animalmagnetizm.com
SUMMARY:SATURDAY
DESCRIPTION:
URL:https://animalmagnetizm.com/event/closed-16/
END:VEVENT
BEGIN:VEVENT
DTSTART;VALUE=DATE:20191201
DTEND;VALUE=DATE:20191202
DTSTAMP:20260424T072755
CREATED:20191121T222623Z
LAST-MODIFIED:20191121T222928Z
UID:919-1575158400-1575244799@animalmagnetizm.com
SUMMARY:SUNDAY
DESCRIPTION:
URL:https://animalmagnetizm.com/event/sunday-3/
END:VEVENT
BEGIN:VEVENT
DTSTART;VALUE=DATE:20191130
DTEND;VALUE=DATE:20191201
DTSTAMP:20260424T072755
CREATED:20191121T213721Z
LAST-MODIFIED:20191121T222520Z
UID:901-1575072000-1575158399@animalmagnetizm.com
SUMMARY:SATURDAY
DESCRIPTION:
URL:https://animalmagnetizm.com/event/closed-15/
END:VEVENT
BEGIN:VEVENT
DTSTART;VALUE=DATE:20191128
DTEND;VALUE=DATE:20191130
DTSTAMP:20260424T072755
CREATED:20191101T171931Z
LAST-MODIFIED:20191101T174136Z
UID:645-1574899200-1575071999@animalmagnetizm.com
SUMMARY:Closed
DESCRIPTION:Holiday
URL:https://animalmagnetizm.com/event/closed-2/
END:VEVENT
BEGIN:VEVENT
DTSTART;VALUE=DATE:20191123
DTEND;VALUE=DATE:20191125
DTSTAMP:20260424T072755
CREATED:20191121T213641Z
LAST-MODIFIED:20191121T213641Z
UID:899-1574467200-1574639999@animalmagnetizm.com
SUMMARY:CLOSED
DESCRIPTION:
URL:https://animalmagnetizm.com/event/closed-14/
END:VEVENT
BEGIN:VEVENT
DTSTART;VALUE=DATE:20191111
DTEND;VALUE=DATE:20191112
DTSTAMP:20260424T072755
CREATED:20191101T171820Z
LAST-MODIFIED:20191101T171820Z
UID:643-1573430400-1573516799@animalmagnetizm.com
SUMMARY:Closed
DESCRIPTION:
URL:https://animalmagnetizm.com/event/closed/
END:VEVENT
BEGIN:VEVENT
DTSTART;VALUE=DATE:20191108
DTEND;VALUE=DATE:20191109
DTSTAMP:20260424T072755
CREATED:20191105T002640Z
LAST-MODIFIED:20191105T002640Z
UID:733-1573171200-1573257599@animalmagnetizm.com
SUMMARY:CLOSED
DESCRIPTION:
URL:https://animalmagnetizm.com/event/closed-3/
END:VEVENT
END:VCALENDAR