BEGIN:VCALENDAR
VERSION:2.0
PRODID:-//Animal Magnetizm - ECPv6.15.20//NONSGML v1.0//EN
CALSCALE:GREGORIAN
METHOD:PUBLISH
X-WR-CALNAME:Animal Magnetizm
X-ORIGINAL-URL:https://animalmagnetizm.com
X-WR-CALDESC:Events for Animal Magnetizm
REFRESH-INTERVAL;VALUE=DURATION:PT1H
X-Robots-Tag:noindex
X-PUBLISHED-TTL:PT1H
BEGIN:VTIMEZONE
TZID:America/Los_Angeles
BEGIN:DAYLIGHT
TZOFFSETFROM:-0800
TZOFFSETTO:-0700
TZNAME:PDT
DTSTART:20190310T100000
END:DAYLIGHT
BEGIN:STANDARD
TZOFFSETFROM:-0700
TZOFFSETTO:-0800
TZNAME:PST
DTSTART:20191103T090000
END:STANDARD
BEGIN:DAYLIGHT
TZOFFSETFROM:-0800
TZOFFSETTO:-0700
TZNAME:PDT
DTSTART:20200308T100000
END:DAYLIGHT
BEGIN:STANDARD
TZOFFSETFROM:-0700
TZOFFSETTO:-0800
TZNAME:PST
DTSTART:20201101T090000
END:STANDARD
BEGIN:DAYLIGHT
TZOFFSETFROM:-0800
TZOFFSETTO:-0700
TZNAME:PDT
DTSTART:20210314T100000
END:DAYLIGHT
BEGIN:STANDARD
TZOFFSETFROM:-0700
TZOFFSETTO:-0800
TZNAME:PST
DTSTART:20211107T090000
END:STANDARD
END:VTIMEZONE
BEGIN:VEVENT
DTSTART;VALUE=DATE:20200523
DTEND;VALUE=DATE:20200524
DTSTAMP:20260424T083125
CREATED:20191122T220809Z
LAST-MODIFIED:20191122T220809Z
UID:1026-1590192000-1590278399@animalmagnetizm.com
SUMMARY:SATURDAY
DESCRIPTION:
URL:https://animalmagnetizm.com/event/saturday-21/
END:VEVENT
BEGIN:VEVENT
DTSTART;VALUE=DATE:20200517
DTEND;VALUE=DATE:20200518
DTSTAMP:20260424T083125
CREATED:20191122T220442Z
LAST-MODIFIED:20191122T220442Z
UID:1024-1589673600-1589759999@animalmagnetizm.com
SUMMARY:SUNDAY
DESCRIPTION:
URL:https://animalmagnetizm.com/event/sunday-24/
END:VEVENT
BEGIN:VEVENT
DTSTART;VALUE=DATE:20200516
DTEND;VALUE=DATE:20200517
DTSTAMP:20260424T083125
CREATED:20191122T220358Z
LAST-MODIFIED:20191122T220358Z
UID:1022-1589587200-1589673599@animalmagnetizm.com
SUMMARY:SATURDAY
DESCRIPTION:
URL:https://animalmagnetizm.com/event/saturday-20/
END:VEVENT
BEGIN:VEVENT
DTSTART;VALUE=DATE:20200510
DTEND;VALUE=DATE:20200511
DTSTAMP:20260424T083125
CREATED:20191122T214228Z
LAST-MODIFIED:20191122T214228Z
UID:1013-1589068800-1589155199@animalmagnetizm.com
SUMMARY:SUNDAY
DESCRIPTION:
URL:https://animalmagnetizm.com/event/sunday-26/
END:VEVENT
BEGIN:VEVENT
DTSTART;VALUE=DATE:20200509
DTEND;VALUE=DATE:20200510
DTSTAMP:20260424T083125
CREATED:20191122T214155Z
LAST-MODIFIED:20191122T214155Z
UID:1011-1588982400-1589068799@animalmagnetizm.com
SUMMARY:SATURDAY
DESCRIPTION:
URL:https://animalmagnetizm.com/event/saturday-22/
END:VEVENT
BEGIN:VEVENT
DTSTART;VALUE=DATE:20200503
DTEND;VALUE=DATE:20200504
DTSTAMP:20260424T083125
CREATED:20191122T220219Z
LAST-MODIFIED:20191122T220219Z
UID:1019-1588464000-1588550399@animalmagnetizm.com
SUMMARY:SUNDAY
DESCRIPTION:
URL:https://animalmagnetizm.com/event/sunday-19/
END:VEVENT
BEGIN:VEVENT
DTSTART;VALUE=DATE:20200502
DTEND;VALUE=DATE:20200503
DTSTAMP:20260424T083125
CREATED:20191122T220157Z
LAST-MODIFIED:20191122T220157Z
UID:1017-1588377600-1588463999@animalmagnetizm.com
SUMMARY:SATURDAY
DESCRIPTION:
URL:https://animalmagnetizm.com/event/saturday-15/
END:VEVENT
BEGIN:VEVENT
DTSTART;VALUE=DATE:20200426
DTEND;VALUE=DATE:20200427
DTSTAMP:20260424T083125
CREATED:20191122T213723Z
LAST-MODIFIED:20191122T213723Z
UID:997-1587859200-1587945599@animalmagnetizm.com
SUMMARY:SUNDAY
DESCRIPTION:
URL:https://animalmagnetizm.com/event/sunday-22/
END:VEVENT
BEGIN:VEVENT
DTSTART;VALUE=DATE:20200425
DTEND;VALUE=DATE:20200426
DTSTAMP:20260424T083125
CREATED:20191122T213651Z
LAST-MODIFIED:20191122T213651Z
UID:995-1587772800-1587859199@animalmagnetizm.com
SUMMARY:SATURDAY
DESCRIPTION:
URL:https://animalmagnetizm.com/event/saturday-18/
END:VEVENT
BEGIN:VEVENT
DTSTART;VALUE=DATE:20200419
DTEND;VALUE=DATE:20200420
DTSTAMP:20260424T083125
CREATED:20191122T213557Z
LAST-MODIFIED:20191122T213557Z
UID:993-1587254400-1587340799@animalmagnetizm.com
SUMMARY:SUNDAY
DESCRIPTION:
URL:https://animalmagnetizm.com/event/sunday-21/
END:VEVENT
BEGIN:VEVENT
DTSTART;VALUE=DATE:20200418
DTEND;VALUE=DATE:20200419
DTSTAMP:20260424T083125
CREATED:20191122T213530Z
LAST-MODIFIED:20191122T213530Z
UID:991-1587168000-1587254399@animalmagnetizm.com
SUMMARY:SATURDAY
DESCRIPTION:
URL:https://animalmagnetizm.com/event/saturday-17/
END:VEVENT
BEGIN:VEVENT
DTSTART;VALUE=DATE:20200412
DTEND;VALUE=DATE:20200413
DTSTAMP:20260424T083125
CREATED:20191122T213500Z
LAST-MODIFIED:20191122T213500Z
UID:989-1586649600-1586735999@animalmagnetizm.com
SUMMARY:SUNDAY
DESCRIPTION:
URL:https://animalmagnetizm.com/event/sunday-20/
END:VEVENT
BEGIN:VEVENT
DTSTART;VALUE=DATE:20200411
DTEND;VALUE=DATE:20200412
DTSTAMP:20260424T083125
CREATED:20191122T213435Z
LAST-MODIFIED:20191122T213435Z
UID:987-1586563200-1586649599@animalmagnetizm.com
SUMMARY:SATURDAY
DESCRIPTION:
URL:https://animalmagnetizm.com/event/saturday-16/
END:VEVENT
BEGIN:VEVENT
DTSTART;VALUE=DATE:20200405
DTEND;VALUE=DATE:20200406
DTSTAMP:20260424T083125
CREATED:20191122T213820Z
LAST-MODIFIED:20191122T213820Z
UID:1001-1586044800-1586131199@animalmagnetizm.com
SUMMARY:SUNDAY
DESCRIPTION:
URL:https://animalmagnetizm.com/event/sunday-23/
END:VEVENT
BEGIN:VEVENT
DTSTART;VALUE=DATE:20200404
DTEND;VALUE=DATE:20200405
DTSTAMP:20260424T083125
CREATED:20191122T213756Z
LAST-MODIFIED:20191122T213756Z
UID:999-1585958400-1586044799@animalmagnetizm.com
SUMMARY:SATURDAY
DESCRIPTION:
URL:https://animalmagnetizm.com/event/saturday-19/
END:VEVENT
BEGIN:VEVENT
DTSTART;TZID=America/Los_Angeles:20200329T080000
DTEND;TZID=America/Los_Angeles:20200329T170000
DTSTAMP:20260424T083125
CREATED:20191122T192929Z
LAST-MODIFIED:20191122T192929Z
UID:981-1585468800-1585501200@animalmagnetizm.com
SUMMARY:SUNDAY
DESCRIPTION:
URL:https://animalmagnetizm.com/event/sunday-18/
END:VEVENT
BEGIN:VEVENT
DTSTART;VALUE=DATE:20200328
DTEND;VALUE=DATE:20200329
DTSTAMP:20260424T083125
CREATED:20191122T192909Z
LAST-MODIFIED:20191122T192909Z
UID:979-1585353600-1585439999@animalmagnetizm.com
SUMMARY:SATURDAY
DESCRIPTION:
URL:https://animalmagnetizm.com/event/saturday-14/
END:VEVENT
BEGIN:VEVENT
DTSTART;VALUE=DATE:20200322
DTEND;VALUE=DATE:20200323
DTSTAMP:20260424T083125
CREATED:20191122T192837Z
LAST-MODIFIED:20191122T192837Z
UID:977-1584835200-1584921599@animalmagnetizm.com
SUMMARY:SUNDAY
DESCRIPTION:
URL:https://animalmagnetizm.com/event/sunday-17/
END:VEVENT
BEGIN:VEVENT
DTSTART;VALUE=DATE:20200321
DTEND;VALUE=DATE:20200322
DTSTAMP:20260424T083125
CREATED:20191122T192754Z
LAST-MODIFIED:20191122T192754Z
UID:975-1584748800-1584835199@animalmagnetizm.com
SUMMARY:SATURDAY
DESCRIPTION:
URL:https://animalmagnetizm.com/event/saturday-13/
END:VEVENT
BEGIN:VEVENT
DTSTART;VALUE=DATE:20200315
DTEND;VALUE=DATE:20200316
DTSTAMP:20260424T083125
CREATED:20191122T192720Z
LAST-MODIFIED:20191122T192720Z
UID:973-1584230400-1584316799@animalmagnetizm.com
SUMMARY:SUNDAY
DESCRIPTION:
URL:https://animalmagnetizm.com/event/sunday-16/
END:VEVENT
BEGIN:VEVENT
DTSTART;VALUE=DATE:20200314
DTEND;VALUE=DATE:20200315
DTSTAMP:20260424T083125
CREATED:20191122T173014Z
LAST-MODIFIED:20191122T173014Z
UID:970-1584144000-1584230399@animalmagnetizm.com
SUMMARY:SATURDAY
DESCRIPTION:
URL:https://animalmagnetizm.com/event/saturday-12/
END:VEVENT
BEGIN:VEVENT
DTSTART;TZID=America/Los_Angeles:20200308T080000
DTEND;TZID=America/Los_Angeles:20200308T170000
DTSTAMP:20260424T083125
CREATED:20191122T172426Z
LAST-MODIFIED:20191122T172426Z
UID:967-1583654400-1583686800@animalmagnetizm.com
SUMMARY:SUNDAY
DESCRIPTION:
URL:https://animalmagnetizm.com/event/sunday-15/
END:VEVENT
BEGIN:VEVENT
DTSTART;VALUE=DATE:20200307
DTEND;VALUE=DATE:20200308
DTSTAMP:20260424T083125
CREATED:20191122T172404Z
LAST-MODIFIED:20191122T172404Z
UID:965-1583539200-1583625599@animalmagnetizm.com
SUMMARY:SATURDAY
DESCRIPTION:
URL:https://animalmagnetizm.com/event/saturday-11/
END:VEVENT
BEGIN:VEVENT
DTSTART;VALUE=DATE:20200301
DTEND;VALUE=DATE:20200302
DTSTAMP:20260424T083125
CREATED:20191122T172336Z
LAST-MODIFIED:20191122T172336Z
UID:963-1583020800-1583107199@animalmagnetizm.com
SUMMARY:SUNDAY
DESCRIPTION:
URL:https://animalmagnetizm.com/event/sunday-14/
END:VEVENT
BEGIN:VEVENT
DTSTART;VALUE=DATE:20200229
DTEND;VALUE=DATE:20200301
DTSTAMP:20260424T083125
CREATED:20191121T233931Z
LAST-MODIFIED:20191121T233931Z
UID:952-1582934400-1583020799@animalmagnetizm.com
SUMMARY:SATURDAY
DESCRIPTION:
URL:https://animalmagnetizm.com/event/saturday-8/
END:VEVENT
BEGIN:VEVENT
DTSTART;VALUE=DATE:20200223
DTEND;VALUE=DATE:20200224
DTSTAMP:20260424T083125
CREATED:20191121T234200Z
LAST-MODIFIED:20191121T234200Z
UID:960-1582416000-1582502399@animalmagnetizm.com
SUMMARY:SUNDAY
DESCRIPTION:
URL:https://animalmagnetizm.com/event/sunday-13/
END:VEVENT
BEGIN:VEVENT
DTSTART;TZID=America/Los_Angeles:20200222T080000
DTEND;TZID=America/Los_Angeles:20200222T170000
DTSTAMP:20260424T083125
CREATED:20191121T234140Z
LAST-MODIFIED:20191121T234140Z
UID:958-1582358400-1582390800@animalmagnetizm.com
SUMMARY:SATURDAY
DESCRIPTION:
URL:https://animalmagnetizm.com/event/saturday-10/
END:VEVENT
BEGIN:VEVENT
DTSTART;VALUE=DATE:20200217
DTEND;VALUE=DATE:20200222
DTSTAMP:20260424T083125
CREATED:20191202T204045Z
LAST-MODIFIED:20191202T204045Z
UID:1220-1581897600-1582329599@animalmagnetizm.com
SUMMARY:CLOSED
DESCRIPTION:
URL:https://animalmagnetizm.com/event/closed-19/
END:VEVENT
BEGIN:VEVENT
DTSTART;VALUE=DATE:20200217
DTEND;VALUE=DATE:20200222
DTSTAMP:20260424T083125
CREATED:20191119T010755Z
LAST-MODIFIED:20191119T010755Z
UID:839-1581897600-1582329599@animalmagnetizm.com
SUMMARY:CLOSED
DESCRIPTION:
URL:https://animalmagnetizm.com/event/closed-10/
END:VEVENT
BEGIN:VEVENT
DTSTART;VALUE=DATE:20200216
DTEND;VALUE=DATE:20200217
DTSTAMP:20260424T083125
CREATED:20191121T233444Z
LAST-MODIFIED:20191121T233444Z
UID:950-1581811200-1581897599@animalmagnetizm.com
SUMMARY:SUNDAY
DESCRIPTION:
URL:https://animalmagnetizm.com/event/sunday-11/
END:VEVENT
END:VCALENDAR