BEGIN:VCALENDAR
VERSION:2.0
PRODID:-//Animal Magnetizm - ECPv6.15.20//NONSGML v1.0//EN
CALSCALE:GREGORIAN
METHOD:PUBLISH
X-WR-CALNAME:Animal Magnetizm
X-ORIGINAL-URL:https://animalmagnetizm.com
X-WR-CALDESC:Events for Animal Magnetizm
REFRESH-INTERVAL;VALUE=DURATION:PT1H
X-Robots-Tag:noindex
X-PUBLISHED-TTL:PT1H
BEGIN:VTIMEZONE
TZID:America/Los_Angeles
BEGIN:DAYLIGHT
TZOFFSETFROM:-0800
TZOFFSETTO:-0700
TZNAME:PDT
DTSTART:20220313T100000
END:DAYLIGHT
BEGIN:STANDARD
TZOFFSETFROM:-0700
TZOFFSETTO:-0800
TZNAME:PST
DTSTART:20221106T090000
END:STANDARD
BEGIN:DAYLIGHT
TZOFFSETFROM:-0800
TZOFFSETTO:-0700
TZNAME:PDT
DTSTART:20230312T100000
END:DAYLIGHT
BEGIN:STANDARD
TZOFFSETFROM:-0700
TZOFFSETTO:-0800
TZNAME:PST
DTSTART:20231105T090000
END:STANDARD
BEGIN:DAYLIGHT
TZOFFSETFROM:-0800
TZOFFSETTO:-0700
TZNAME:PDT
DTSTART:20240310T100000
END:DAYLIGHT
BEGIN:STANDARD
TZOFFSETFROM:-0700
TZOFFSETTO:-0800
TZNAME:PST
DTSTART:20241103T090000
END:STANDARD
BEGIN:DAYLIGHT
TZOFFSETFROM:-0800
TZOFFSETTO:-0700
TZNAME:PDT
DTSTART:20250309T100000
END:DAYLIGHT
BEGIN:STANDARD
TZOFFSETFROM:-0700
TZOFFSETTO:-0800
TZNAME:PST
DTSTART:20251102T090000
END:STANDARD
BEGIN:DAYLIGHT
TZOFFSETFROM:-0800
TZOFFSETTO:-0700
TZNAME:PDT
DTSTART:20260308T100000
END:DAYLIGHT
BEGIN:STANDARD
TZOFFSETFROM:-0700
TZOFFSETTO:-0800
TZNAME:PST
DTSTART:20261101T090000
END:STANDARD
BEGIN:DAYLIGHT
TZOFFSETFROM:-0800
TZOFFSETTO:-0700
TZNAME:PDT
DTSTART:20270314T100000
END:DAYLIGHT
BEGIN:STANDARD
TZOFFSETFROM:-0700
TZOFFSETTO:-0800
TZNAME:PST
DTSTART:20271107T090000
END:STANDARD
END:VTIMEZONE
BEGIN:VEVENT
DTSTART;VALUE=DATE:20260907
DTEND;VALUE=DATE:20260908
DTSTAMP:20260423T161953
CREATED:20260112T233914Z
LAST-MODIFIED:20260112T233914Z
UID:6420-1788739200-1788825599@animalmagnetizm.com
SUMMARY:Closed - Labor Day
DESCRIPTION:
URL:https://animalmagnetizm.com/event/closed-labor-day/
END:VEVENT
BEGIN:VEVENT
DTSTART;VALUE=DATE:20260514
DTEND;VALUE=DATE:20260526
DTSTAMP:20260423T161953
CREATED:20260112T233719Z
LAST-MODIFIED:20260112T234304Z
UID:6418-1778716800-1779753599@animalmagnetizm.com
SUMMARY:Closed - Memorial Day & Vacation
DESCRIPTION:
URL:https://animalmagnetizm.com/event/closed-56/
END:VEVENT
BEGIN:VEVENT
DTSTART;VALUE=DATE:20260403
DTEND;VALUE=DATE:20260411
DTSTAMP:20260423T161953
CREATED:20260112T233302Z
LAST-MODIFIED:20260112T234211Z
UID:6416-1775174400-1775865599@animalmagnetizm.com
SUMMARY:Closed - Easter & BI Spring Break
DESCRIPTION:
URL:https://animalmagnetizm.com/event/closed-55/
END:VEVENT
BEGIN:VEVENT
DTSTART;VALUE=DATE:20260119
DTEND;VALUE=DATE:20260120
DTSTAMP:20260423T161953
CREATED:20260112T233057Z
LAST-MODIFIED:20260112T233057Z
UID:6414-1768780800-1768867199@animalmagnetizm.com
SUMMARY:Closed - MLK Day
DESCRIPTION:
URL:https://animalmagnetizm.com/event/closed-mlk-day/
END:VEVENT
BEGIN:VEVENT
DTSTART;VALUE=DATE:20251231
DTEND;VALUE=DATE:20260102
DTSTAMP:20260423T161953
CREATED:20251113T231704Z
LAST-MODIFIED:20251113T231704Z
UID:6392-1767139200-1767311999@animalmagnetizm.com
SUMMARY:Closed
DESCRIPTION:NYE/NYD
URL:https://animalmagnetizm.com/event/closed-53/
END:VEVENT
BEGIN:VEVENT
DTSTART;VALUE=DATE:20251229
DTEND;VALUE=DATE:20251230
DTSTAMP:20260423T161953
CREATED:20251230T162610Z
LAST-MODIFIED:20251230T162610Z
UID:6411-1766966400-1767052799@animalmagnetizm.com
SUMMARY:Closed
DESCRIPTION:
URL:https://animalmagnetizm.com/event/closed-54/
END:VEVENT
BEGIN:VEVENT
DTSTART;VALUE=DATE:20251222
DTEND;VALUE=DATE:20251227
DTSTAMP:20260423T161953
CREATED:20250306T165937Z
LAST-MODIFIED:20251113T231614Z
UID:6033-1766361600-1766793599@animalmagnetizm.com
SUMMARY:Closed
DESCRIPTION:Xmas
URL:https://animalmagnetizm.com/event/closed-50/
END:VEVENT
BEGIN:VEVENT
DTSTART;VALUE=DATE:20251124
DTEND;VALUE=DATE:20251129
DTSTAMP:20260423T161953
CREATED:20250306T165853Z
LAST-MODIFIED:20250306T165853Z
UID:6031-1763942400-1764374399@animalmagnetizm.com
SUMMARY:Closed
DESCRIPTION:Thanksgiving
URL:https://animalmagnetizm.com/event/closed-49/
END:VEVENT
BEGIN:VEVENT
DTSTART;VALUE=DATE:20251017
DTEND;VALUE=DATE:20251018
DTSTAMP:20260423T161953
CREATED:20250926T232343Z
LAST-MODIFIED:20250926T232343Z
UID:6323-1760659200-1760745599@animalmagnetizm.com
SUMMARY:Closed
DESCRIPTION:
URL:https://animalmagnetizm.com/event/closed-52/
END:VEVENT
BEGIN:VEVENT
DTSTART;VALUE=DATE:20250923
DTEND;VALUE=DATE:20250924
DTSTAMP:20260423T161953
CREATED:20250529T184806Z
LAST-MODIFIED:20250529T184806Z
UID:6197-1758585600-1758671999@animalmagnetizm.com
SUMMARY:Closed
DESCRIPTION:
URL:https://animalmagnetizm.com/event/closed-47/
END:VEVENT
BEGIN:VEVENT
DTSTART;VALUE=DATE:20250901
DTEND;VALUE=DATE:20250902
DTSTAMP:20260423T161953
CREATED:20250306T165808Z
LAST-MODIFIED:20250306T165808Z
UID:6029-1756684800-1756771199@animalmagnetizm.com
SUMMARY:Closed
DESCRIPTION:Labor Day
URL:https://animalmagnetizm.com/event/closed-48/
END:VEVENT
BEGIN:VEVENT
DTSTART;VALUE=DATE:20250818
DTEND;VALUE=DATE:20250823
DTSTAMP:20260423T161953
CREATED:20250721T170820Z
LAST-MODIFIED:20250721T170820Z
UID:6272-1755475200-1755907199@animalmagnetizm.com
SUMMARY:Closed
DESCRIPTION:
URL:https://animalmagnetizm.com/event/closed-51/
END:VEVENT
BEGIN:VEVENT
DTSTART;VALUE=DATE:20250704
DTEND;VALUE=DATE:20250705
DTSTAMP:20260423T161953
CREATED:20250306T164900Z
LAST-MODIFIED:20250306T164900Z
UID:6023-1751587200-1751673599@animalmagnetizm.com
SUMMARY:Closed
DESCRIPTION:Independence Day
URL:https://animalmagnetizm.com/event/closed-46/
END:VEVENT
BEGIN:VEVENT
DTSTART;VALUE=DATE:20250619
DTEND;VALUE=DATE:20250620
DTSTAMP:20260423T161953
CREATED:20250529T184730Z
LAST-MODIFIED:20250529T184730Z
UID:6195-1750291200-1750377599@animalmagnetizm.com
SUMMARY:Closed for Juneteenth
DESCRIPTION:
URL:https://animalmagnetizm.com/event/closed-for-juneteenth/
END:VEVENT
BEGIN:VEVENT
DTSTART;VALUE=DATE:20250526
DTEND;VALUE=DATE:20250527
DTSTAMP:20260423T161953
CREATED:20250306T164355Z
LAST-MODIFIED:20250306T164935Z
UID:6020-1748217600-1748303999@animalmagnetizm.com
SUMMARY:Closed
DESCRIPTION:Memorial Day
URL:https://animalmagnetizm.com/event/closed-memorial-day/
END:VEVENT
BEGIN:VEVENT
DTSTART;VALUE=DATE:20250508
DTEND;VALUE=DATE:20250510
DTSTAMP:20260423T161953
CREATED:20250306T163244Z
LAST-MODIFIED:20250306T163244Z
UID:6018-1746662400-1746835199@animalmagnetizm.com
SUMMARY:Closed
DESCRIPTION:
URL:https://animalmagnetizm.com/event/closed-45/
END:VEVENT
BEGIN:VEVENT
DTSTART;VALUE=DATE:20250331
DTEND;VALUE=DATE:20250402
DTSTAMP:20260423T161953
CREATED:20250306T163117Z
LAST-MODIFIED:20250306T163117Z
UID:6016-1743379200-1743551999@animalmagnetizm.com
SUMMARY:Closed
DESCRIPTION:
URL:https://animalmagnetizm.com/event/closed-44/
END:VEVENT
BEGIN:VEVENT
DTSTART;VALUE=DATE:20250310
DTEND;VALUE=DATE:20250315
DTSTAMP:20260423T161953
CREATED:20250306T163012Z
LAST-MODIFIED:20250306T163012Z
UID:6014-1741564800-1741996799@animalmagnetizm.com
SUMMARY:Closed
DESCRIPTION:
URL:https://animalmagnetizm.com/event/closed-43/
END:VEVENT
BEGIN:VEVENT
DTSTART;VALUE=DATE:20241223
DTEND;VALUE=DATE:20250104
DTSTAMP:20260423T161953
CREATED:20240802T004931Z
LAST-MODIFIED:20240802T004931Z
UID:5539-1734912000-1735948799@animalmagnetizm.com
SUMMARY:Closed
DESCRIPTION:
URL:https://animalmagnetizm.com/event/closed-42/
END:VEVENT
BEGIN:VEVENT
DTSTART;VALUE=DATE:20241121
DTEND;VALUE=DATE:20241130
DTSTAMP:20260423T161953
CREATED:20240802T004844Z
LAST-MODIFIED:20240802T004844Z
UID:5537-1732147200-1732924799@animalmagnetizm.com
SUMMARY:Closed
DESCRIPTION:
URL:https://animalmagnetizm.com/event/closed-41/
END:VEVENT
BEGIN:VEVENT
DTSTART;VALUE=DATE:20241008
DTEND;VALUE=DATE:20241009
DTSTAMP:20260423T161953
CREATED:20241003T233553Z
LAST-MODIFIED:20241003T233743Z
UID:5713-1728345600-1728431999@animalmagnetizm.com
SUMMARY:Closed
DESCRIPTION:Closed Tuesday October 8th
URL:https://animalmagnetizm.com/event/closed-tuesday-october-8th/
END:VEVENT
BEGIN:VEVENT
DTSTART;VALUE=DATE:20240902
DTEND;VALUE=DATE:20240903
DTSTAMP:20260423T161953
CREATED:20240802T004737Z
LAST-MODIFIED:20240802T004737Z
UID:5535-1725235200-1725321599@animalmagnetizm.com
SUMMARY:Open Labor Day!
DESCRIPTION:
URL:https://animalmagnetizm.com/event/open-labor-day/
END:VEVENT
BEGIN:VEVENT
DTSTART;VALUE=DATE:20240812
DTEND;VALUE=DATE:20240817
DTSTAMP:20260423T161953
CREATED:20240802T004531Z
LAST-MODIFIED:20240802T005641Z
UID:5533-1723420800-1723852799@animalmagnetizm.com
SUMMARY:Closed
DESCRIPTION:
URL:https://animalmagnetizm.com/event/closed-40/
END:VEVENT
BEGIN:VEVENT
DTSTART;VALUE=DATE:20240705
DTEND;VALUE=DATE:20240706
DTSTAMP:20260423T161953
CREATED:20240620T000319Z
LAST-MODIFIED:20240620T000319Z
UID:5395-1720137600-1720223999@animalmagnetizm.com
SUMMARY:OPEN
DESCRIPTION:
URL:https://animalmagnetizm.com/event/open-2/
END:VEVENT
BEGIN:VEVENT
DTSTART;VALUE=DATE:20240704
DTEND;VALUE=DATE:20240705
DTSTAMP:20260423T161953
CREATED:20240620T000240Z
LAST-MODIFIED:20240620T000240Z
UID:5393-1720051200-1720137599@animalmagnetizm.com
SUMMARY:OPEN
DESCRIPTION:
URL:https://animalmagnetizm.com/event/open/
END:VEVENT
BEGIN:VEVENT
DTSTART;VALUE=DATE:20240509
DTEND;VALUE=DATE:20240510
DTSTAMP:20260423T161953
CREATED:20240418T233525Z
LAST-MODIFIED:20240418T233531Z
UID:5233-1715212800-1715299199@animalmagnetizm.com
SUMMARY:CLOSED
DESCRIPTION:
URL:https://animalmagnetizm.com/event/closed-39/
END:VEVENT
BEGIN:VEVENT
DTSTART;VALUE=DATE:20231225
DTEND;VALUE=DATE:20231226
DTSTAMP:20260423T161953
CREATED:20230812T004904Z
LAST-MODIFIED:20230812T004904Z
UID:4507-1703462400-1703548799@animalmagnetizm.com
SUMMARY:CLOSED
DESCRIPTION:
URL:https://animalmagnetizm.com/event/closed-38/
END:VEVENT
BEGIN:VEVENT
DTSTART;VALUE=DATE:20231123
DTEND;VALUE=DATE:20231125
DTSTAMP:20260423T161953
CREATED:20230812T004539Z
LAST-MODIFIED:20230812T004539Z
UID:4505-1700697600-1700870399@animalmagnetizm.com
SUMMARY:CLOSED
DESCRIPTION:
URL:https://animalmagnetizm.com/event/closed-37/
END:VEVENT
BEGIN:VEVENT
DTSTART;VALUE=DATE:20231031
DTEND;VALUE=DATE:20231101
DTSTAMP:20260423T161953
CREATED:20230812T004939Z
LAST-MODIFIED:20230812T004939Z
UID:4509-1698710400-1698796799@animalmagnetizm.com
SUMMARY:Halloween
DESCRIPTION:
URL:https://animalmagnetizm.com/event/halloween-2/
END:VEVENT
BEGIN:VEVENT
DTSTART;VALUE=DATE:20230904
DTEND;VALUE=DATE:20230905
DTSTAMP:20260423T161953
CREATED:20230812T004435Z
LAST-MODIFIED:20230812T004435Z
UID:4503-1693785600-1693871999@animalmagnetizm.com
SUMMARY:CLOSED
DESCRIPTION:
URL:https://animalmagnetizm.com/event/closed-36/
END:VEVENT
END:VCALENDAR